BEGIN:VCALENDAR
VERSION:2.0
PRODID:-//Bentley Academy Innovation School - ECPv6.15.18//NONSGML v1.0//EN
CALSCALE:GREGORIAN
METHOD:PUBLISH
X-WR-CALNAME:Bentley Academy Innovation School
X-ORIGINAL-URL:https://spsbentley.salemk12.org
X-WR-CALDESC:Events for Bentley Academy Innovation School
REFRESH-INTERVAL;VALUE=DURATION:PT1H
X-Robots-Tag:noindex
X-PUBLISHED-TTL:PT1H
BEGIN:VTIMEZONE
TZID:America/New_York
BEGIN:DAYLIGHT
TZOFFSETFROM:-0500
TZOFFSETTO:-0400
TZNAME:EDT
DTSTART:20250309T070000
END:DAYLIGHT
BEGIN:STANDARD
TZOFFSETFROM:-0400
TZOFFSETTO:-0500
TZNAME:EST
DTSTART:20251102T060000
END:STANDARD
BEGIN:DAYLIGHT
TZOFFSETFROM:-0500
TZOFFSETTO:-0400
TZNAME:EDT
DTSTART:20260308T070000
END:DAYLIGHT
BEGIN:STANDARD
TZOFFSETFROM:-0400
TZOFFSETTO:-0500
TZNAME:EST
DTSTART:20261101T060000
END:STANDARD
BEGIN:DAYLIGHT
TZOFFSETFROM:-0500
TZOFFSETTO:-0400
TZNAME:EDT
DTSTART:20270314T070000
END:DAYLIGHT
BEGIN:STANDARD
TZOFFSETFROM:-0400
TZOFFSETTO:-0500
TZNAME:EST
DTSTART:20271107T060000
END:STANDARD
END:VTIMEZONE
BEGIN:VEVENT
DTSTART;VALUE=DATE:20260420
DTEND;VALUE=DATE:20260425
DTSTAMP:20260424T081857
CREATED:20250730T235858Z
LAST-MODIFIED:20260423T225813Z
UID:8014-1776643200-1777075199@spsbentley.salemk12.org
SUMMARY:April Break - No School
DESCRIPTION:
URL:https://spsbentley.salemk12.org/event/april-break-no-school/
CATEGORIES:Bentley School
END:VEVENT
BEGIN:VEVENT
DTSTART;VALUE=DATE:20260430
DTEND;VALUE=DATE:20260501
DTSTAMP:20260424T081857
CREATED:20260203T214436Z
LAST-MODIFIED:20260423T225813Z
UID:8859-1777507200-1777593599@spsbentley.salemk12.org
SUMMARY:5th Grade Math MCAS
DESCRIPTION:
URL:https://spsbentley.salemk12.org/event/5th-grade-math-mcas/
CATEGORIES:Bentley School
END:VEVENT
BEGIN:VEVENT
DTSTART;VALUE=DATE:20260506
DTEND;VALUE=DATE:20260507
DTSTAMP:20260424T081857
CREATED:20260203T214437Z
LAST-MODIFIED:20260423T225813Z
UID:8861-1778025600-1778111999@spsbentley.salemk12.org
SUMMARY:3rd Grade Math MCAS
DESCRIPTION:
URL:https://spsbentley.salemk12.org/event/3rd-grade-math-mcas/
CATEGORIES:Bentley School
END:VEVENT
BEGIN:VEVENT
DTSTART;VALUE=DATE:20260507
DTEND;VALUE=DATE:20260508
DTSTAMP:20260424T081857
CREATED:20260203T214437Z
LAST-MODIFIED:20260423T225813Z
UID:8860-1778112000-1778198399@spsbentley.salemk12.org
SUMMARY:5th Grade Math MCAS
DESCRIPTION:
URL:https://spsbentley.salemk12.org/event/5th-grade-math-mcas-2/
CATEGORIES:Bentley School
END:VEVENT
BEGIN:VEVENT
DTSTART;VALUE=DATE:20260512
DTEND;VALUE=DATE:20260513
DTSTAMP:20260424T081857
CREATED:20260203T214437Z
LAST-MODIFIED:20260423T225813Z
UID:8862-1778544000-1778630399@spsbentley.salemk12.org
SUMMARY:4th Grade Math MCAS
DESCRIPTION:
URL:https://spsbentley.salemk12.org/event/4th-grade-math-mcas/
CATEGORIES:Bentley School
END:VEVENT
BEGIN:VEVENT
DTSTART;TZID=America/New_York:20260512T180000
DTEND;TZID=America/New_York:20260512T190000
DTSTAMP:20260424T081857
CREATED:20240512T214437Z
LAST-MODIFIED:20240701T234438Z
UID:5641-1778608800-1778612400@spsbentley.salemk12.org
SUMMARY:PTA Meeting
DESCRIPTION:Join with Google Meet: https://meet.google.com/cpe-gojd-mme\nOr dial: (US) +1 470-228-6129 PIN: 474065142#\nMore phone numbers: https://tel.meet/cpe-gojd-mme?pin=4718499594884&hs=7\nLearn more about Meet at: https://support.google.com/a/users/answer/9282720
URL:https://spsbentley.salemk12.org/event/pta-meeting-31/
CATEGORIES:Bentley School
END:VEVENT
BEGIN:VEVENT
DTSTART;TZID=America/New_York:20260512T180000
DTEND;TZID=America/New_York:20260512T190000
DTSTAMP:20260424T081857
CREATED:20241015T214510Z
LAST-MODIFIED:20250517T182856Z
UID:6284-1778608800-1778612400@spsbentley.salemk12.org
SUMMARY:PTA Meeting
DESCRIPTION:Join with Google Meet: https://meet.google.com/fqq-gjqw-jnx\nOr dial: (US) +1 551-900-1311 PIN: 777188286#\nMore phone numbers: https://tel.meet/fqq-gjqw-jnx?pin=4827249193379&hs=7\nLearn more about Meet at: https://support.google.com/a/users/answer/9282720
URL:https://spsbentley.salemk12.org/event/pta-meeting-53/
CATEGORIES:Bentley School
END:VEVENT
BEGIN:VEVENT
DTSTART;TZID=America/New_York:20260512T180000
DTEND;TZID=America/New_York:20260512T190000
DTSTAMP:20260424T081857
CREATED:20250826T191451Z
LAST-MODIFIED:20260423T225813Z
UID:8143-1778608800-1778612400@spsbentley.salemk12.org
SUMMARY:PTA Meeting
DESCRIPTION:https://dfci.zoom.us/j/6735367419?pwd=K39zUuz0w9cUtS3bxqUbGRDHmpyGYF.1&omn=99065996678
URL:https://spsbentley.salemk12.org/event/pta-meeting-74/
CATEGORIES:Bentley School
END:VEVENT
BEGIN:VEVENT
DTSTART;VALUE=DATE:20260513
DTEND;VALUE=DATE:20260514
DTSTAMP:20260424T081857
CREATED:20250730T235858Z
LAST-MODIFIED:20260423T225813Z
UID:8015-1778630400-1778716799@spsbentley.salemk12.org
SUMMARY:Early Release Day
DESCRIPTION:
URL:https://spsbentley.salemk12.org/event/early-release-day-7/
CATEGORIES:Bentley School
END:VEVENT
BEGIN:VEVENT
DTSTART;VALUE=DATE:20260514
DTEND;VALUE=DATE:20260515
DTSTAMP:20260424T081857
CREATED:20260203T214437Z
LAST-MODIFIED:20260423T225813Z
UID:8863-1778716800-1778803199@spsbentley.salemk12.org
SUMMARY:5th Grade STE MCAS
DESCRIPTION:
URL:https://spsbentley.salemk12.org/event/5th-grade-ste-mcas/
CATEGORIES:Bentley School
END:VEVENT
BEGIN:VEVENT
DTSTART;VALUE=DATE:20260519
DTEND;VALUE=DATE:20260520
DTSTAMP:20260424T081857
CREATED:20260203T214448Z
LAST-MODIFIED:20260423T225813Z
UID:8866-1779148800-1779235199@spsbentley.salemk12.org
SUMMARY:4th Grade Math MCAS
DESCRIPTION:
URL:https://spsbentley.salemk12.org/event/4th-grade-math-mcas-2/
CATEGORIES:Bentley School
END:VEVENT
BEGIN:VEVENT
DTSTART;VALUE=DATE:20260520
DTEND;VALUE=DATE:20260521
DTSTAMP:20260424T081857
CREATED:20260203T214437Z
LAST-MODIFIED:20260423T225813Z
UID:8865-1779235200-1779321599@spsbentley.salemk12.org
SUMMARY:3rd Grade Math MCAS
DESCRIPTION:
URL:https://spsbentley.salemk12.org/event/3rd-grade-math-mcas-2/
CATEGORIES:Bentley School
END:VEVENT
BEGIN:VEVENT
DTSTART;TZID=America/New_York:20260520T180000
DTEND;TZID=America/New_York:20260520T193000
DTSTAMP:20260424T081857
CREATED:20251128T203015Z
LAST-MODIFIED:20260423T225825Z
UID:8647-1779300000-1779305400@spsbentley.salemk12.org
SUMMARY:ELPAC Online Meeting (District Wide)
DESCRIPTION:https://meet.google.com/xte-cyir-ubb
URL:https://spsbentley.salemk12.org/event/elpac-online-meeting-district-wide-3/
CATEGORIES:Bentley School
END:VEVENT
BEGIN:VEVENT
DTSTART;VALUE=DATE:20260521
DTEND;VALUE=DATE:20260522
DTSTAMP:20260424T081857
CREATED:20260203T214437Z
LAST-MODIFIED:20260423T225825Z
UID:8864-1779321600-1779407999@spsbentley.salemk12.org
SUMMARY:5th Grade STE MCAS
DESCRIPTION:
URL:https://spsbentley.salemk12.org/event/5th-grade-ste-mcas-2/
CATEGORIES:Bentley School
END:VEVENT
BEGIN:VEVENT
DTSTART;VALUE=DATE:20260525
DTEND;VALUE=DATE:20260526
DTSTAMP:20260424T081857
CREATED:20250730T235858Z
LAST-MODIFIED:20260423T225825Z
UID:8016-1779667200-1779753599@spsbentley.salemk12.org
SUMMARY:Memorial Day - No School
DESCRIPTION:
URL:https://spsbentley.salemk12.org/event/memorial-day-no-school/
CATEGORIES:Bentley School
END:VEVENT
BEGIN:VEVENT
DTSTART;TZID=America/New_York:20260604T170000
DTEND;TZID=America/New_York:20260604T190000
DTSTAMP:20260424T081857
CREATED:20260414T224342Z
LAST-MODIFIED:20260423T225825Z
UID:9095-1780592400-1780599600@spsbentley.salemk12.org
SUMMARY:Steam Night
DESCRIPTION:
URL:https://spsbentley.salemk12.org/event/steam-night-2/
CATEGORIES:Bentley School
END:VEVENT
BEGIN:VEVENT
DTSTART;TZID=America/New_York:20260609T070000
DTEND;TZID=America/New_York:20260609T151500
DTSTAMP:20260424T081857
CREATED:20260409T221338Z
LAST-MODIFIED:20260423T225825Z
UID:9079-1780988400-1781018100@spsbentley.salemk12.org
SUMMARY:Field Day
DESCRIPTION:
URL:https://spsbentley.salemk12.org/event/field-day-3/
CATEGORIES:Bentley School
END:VEVENT
BEGIN:VEVENT
DTSTART;TZID=America/New_York:20260609T180000
DTEND;TZID=America/New_York:20260609T190000
DTSTAMP:20260424T081857
CREATED:20240609T222836Z
LAST-MODIFIED:20240701T234438Z
UID:5717-1781028000-1781031600@spsbentley.salemk12.org
SUMMARY:PTA Meeting
DESCRIPTION:Join with Google Meet: https://meet.google.com/cpe-gojd-mme\nOr dial: (US) +1 470-228-6129 PIN: 474065142#\nMore phone numbers: https://tel.meet/cpe-gojd-mme?pin=4718499594884&hs=7\nLearn more about Meet at: https://support.google.com/a/users/answer/9282720
URL:https://spsbentley.salemk12.org/event/pta-meeting-32/
CATEGORIES:Bentley School
END:VEVENT
BEGIN:VEVENT
DTSTART;TZID=America/New_York:20260609T180000
DTEND;TZID=America/New_York:20260609T190000
DTSTAMP:20260424T081857
CREATED:20241018T214508Z
LAST-MODIFIED:20250517T182856Z
UID:6292-1781028000-1781031600@spsbentley.salemk12.org
SUMMARY:PTA Meeting
DESCRIPTION:Join with Google Meet: https://meet.google.com/fqq-gjqw-jnx\nOr dial: (US) +1 551-900-1311 PIN: 777188286#\nMore phone numbers: https://tel.meet/fqq-gjqw-jnx?pin=4827249193379&hs=7\nLearn more about Meet at: https://support.google.com/a/users/answer/9282720
URL:https://spsbentley.salemk12.org/event/pta-meeting-54/
CATEGORIES:Bentley School
END:VEVENT
BEGIN:VEVENT
DTSTART;TZID=America/New_York:20260609T180000
DTEND;TZID=America/New_York:20260609T190000
DTSTAMP:20260424T081857
CREATED:20250827T192929Z
LAST-MODIFIED:20260423T225825Z
UID:8157-1781028000-1781031600@spsbentley.salemk12.org
SUMMARY:PTA Meeting
DESCRIPTION:https://dfci.zoom.us/j/6735367419?pwd=K39zUuz0w9cUtS3bxqUbGRDHmpyGYF.1&omn=99065996678
URL:https://spsbentley.salemk12.org/event/pta-meeting-75/
CATEGORIES:Bentley School
END:VEVENT
BEGIN:VEVENT
DTSTART;VALUE=DATE:20260610
DTEND;VALUE=DATE:20260611
DTSTAMP:20260424T081857
CREATED:20250731T235853Z
LAST-MODIFIED:20260423T225825Z
UID:8052-1781049600-1781135999@spsbentley.salemk12.org
SUMMARY:Last Day of School for PreK and Kindergarten
DESCRIPTION:
URL:https://spsbentley.salemk12.org/event/last-day-of-school-for-prek-and-kindergarten/
CATEGORIES:Bentley School
END:VEVENT
BEGIN:VEVENT
DTSTART;TZID=America/New_York:20260610T180000
DTEND;TZID=America/New_York:20260610T193000
DTSTAMP:20260424T081857
CREATED:20251213T224539Z
LAST-MODIFIED:20260423T225825Z
UID:8690-1781114400-1781119800@spsbentley.salemk12.org
SUMMARY:ELPAC Multilingual Family Night
DESCRIPTION:
URL:https://spsbentley.salemk12.org/event/elpac-multilingual-family-night/
LOCATION:Horace Mann Field
CATEGORIES:Bentley School
END:VEVENT
BEGIN:VEVENT
DTSTART;VALUE=DATE:20260616
DTEND;VALUE=DATE:20260617
DTSTAMP:20260424T081857
CREATED:20250731T235853Z
LAST-MODIFIED:20260225T234442Z
UID:8053-1781568000-1781654399@spsbentley.salemk12.org
SUMMARY:Last Day of School Grades
DESCRIPTION:
URL:https://spsbentley.salemk12.org/event/last-day-of-school-grades/
CATEGORIES:Bentley School
END:VEVENT
BEGIN:VEVENT
DTSTART;TZID=America/New_York:20260616T083000
DTEND;TZID=America/New_York:20260616T093000
DTSTAMP:20260424T081857
CREATED:20260416T224333Z
LAST-MODIFIED:20260423T225825Z
UID:9102-1781598600-1781602200@spsbentley.salemk12.org
SUMMARY:School Concert
DESCRIPTION:
URL:https://spsbentley.salemk12.org/event/school-concert/
CATEGORIES:Bentley School
END:VEVENT
BEGIN:VEVENT
DTSTART;VALUE=DATE:20260617
DTEND;VALUE=DATE:20260618
DTSTAMP:20260424T081857
CREATED:20260320T195855Z
LAST-MODIFIED:20260423T225825Z
UID:9026-1781654400-1781740799@spsbentley.salemk12.org
SUMMARY:Last Day of School for PreK and Kindergarten
DESCRIPTION:
URL:https://spsbentley.salemk12.org/event/last-day-of-school-for-prek-and-kindergarten-3/
CATEGORIES:Bentley School
END:VEVENT
BEGIN:VEVENT
DTSTART;VALUE=DATE:20260617
DTEND;VALUE=DATE:20260618
DTSTAMP:20260424T081857
CREATED:20260325T185851Z
LAST-MODIFIED:20260325T185922Z
UID:9044-1781654400-1781740799@spsbentley.salemk12.org
SUMMARY:Last Day of School (Pre-K\, Kindergarten)
DESCRIPTION:
URL:https://spsbentley.salemk12.org/event/last-day-of-school-pre-k-kindergarten/
CATEGORIES:Bentley School
END:VEVENT
BEGIN:VEVENT
DTSTART;TZID=America/New_York:20260618T180000
DTEND;TZID=America/New_York:20260618T193000
DTSTAMP:20260424T081857
CREATED:20260409T221349Z
LAST-MODIFIED:20260423T225836Z
UID:9080-1781805600-1781811000@spsbentley.salemk12.org
SUMMARY:Grade 5 Moving On Ceremony
DESCRIPTION:
URL:https://spsbentley.salemk12.org/event/grade-5-moving-on-ceremony/
CATEGORIES:Bentley School
END:VEVENT
BEGIN:VEVENT
DTSTART;VALUE=DATE:20260619
DTEND;VALUE=DATE:20260620
DTSTAMP:20260424T081857
CREATED:20260409T221349Z
LAST-MODIFIED:20260423T225836Z
UID:9081-1781827200-1781913599@spsbentley.salemk12.org
SUMMARY:Juneteenh (No School)
DESCRIPTION:
URL:https://spsbentley.salemk12.org/event/juneteenh-no-school/
CATEGORIES:Bentley School
END:VEVENT
BEGIN:VEVENT
DTSTART;VALUE=DATE:20260623
DTEND;VALUE=DATE:20260624
DTSTAMP:20260424T081857
CREATED:20260303T181423Z
LAST-MODIFIED:20260423T225836Z
UID:8986-1782172800-1782259199@spsbentley.salemk12.org
SUMMARY:Last Day of School Grades 1 -5
DESCRIPTION:
URL:https://spsbentley.salemk12.org/event/last-day-of-school-grades-2/
CATEGORIES:Bentley School
END:VEVENT
BEGIN:VEVENT
DTSTART;TZID=America/New_York:20260623T080000
DTEND;TZID=America/New_York:20260623T170000
DTSTAMP:20260424T081857
CREATED:20260325T185323Z
LAST-MODIFIED:20260325T185323Z
UID:9041-1782201600-1782234000@spsbentley.salemk12.org
SUMMARY:Last Day of School
DESCRIPTION:
URL:https://spsbentley.salemk12.org/event/last-day-of-school-2/
CATEGORIES:Bentley School
END:VEVENT
END:VCALENDAR